BEGIN:VCALENDAR
VERSION:2.0
PRODID:-//bonasoft.pl//NONSGML Spotkanie z książką//EN
CALSCALE:GREGORIAN
METHOD:PUBLISH
BEGIN:VEVENT
UID:20260422T140725-174228402uid
DISTAMP:20260422T140725
DTSTART:20260423T070000Z
DTEND:20260423T080000Z
LOCATION:Biblioteka Pedagogiczna im. Heleny Radlińkiej w Siedlcach
SUMMARY:Spotkanie z książką
DESCRIPTION:
END:VEVENT
END:VCALENDAR
