BEGIN:VCALENDAR
VERSION:2.0
PRODID:-//bonasoft.pl//NONSGML 1000 km wyzwania – Estonia na rowerze//EN
CALSCALE:GREGORIAN
METHOD:PUBLISH
BEGIN:VEVENT
UID:20260420T123348-78977410uid
DISTAMP:20260420T123348
DTSTART:20260429T093000Z
DTEND:20260429T103000Z
LOCATION:Biblioteka Pedagogiczna im. Heleny Radlińskiej w Siedlcach
SUMMARY:1000 km wyzwania – Estonia na rowerze
DESCRIPTION:
END:VEVENT
END:VCALENDAR
