BEGIN:VCALENDAR
VERSION:2.0
PRODID:-//bonasoft.pl//NONSGML Na ratunek emocjom!//EN
CALSCALE:GREGORIAN
METHOD:PUBLISH
BEGIN:VEVENT
UID:20260424T135218-867704372uid
DISTAMP:20260424T135218
DTSTART:20260430T090000Z
DTEND:20260430T100000Z
LOCATION:Biblioteka Pedagogiczna im. Heleny Radlińskiej w Siedlcach
SUMMARY:Na ratunek emocjom!
DESCRIPTION:
END:VEVENT
END:VCALENDAR
