BEGIN:VCALENDAR
VERSION:2.0
PRODID:-//bonasoft.pl//NONSGML Magiczna Moc Bajek – Piękno i Ochrona Przyrody – Razem Ratujemy Pszczoły//EN
CALSCALE:GREGORIAN
METHOD:PUBLISH
BEGIN:VEVENT
UID:20260421T114130-2074272051uid
DISTAMP:20260421T114130
DTSTART:20260428T083000Z
DTEND:20260428T100000Z
LOCATION:Biblioteka Pedagogiczna im. Heleny Radlińskiej w Siedlcach
SUMMARY:Magiczna Moc Bajek – Piękno i Ochrona Przyrody – Razem Ratujemy Pszczoły
DESCRIPTION:
END:VEVENT
END:VCALENDAR
