BEGIN:VCALENDAR
VERSION:2.0
PRODID:-//bonasoft.pl//NONSGML Dbajmy o naszą planetę! – Jak dbać o przyrodę?//EN
CALSCALE:GREGORIAN
METHOD:PUBLISH
BEGIN:VEVENT
UID:20260420T123116-1739833876uid
DISTAMP:20260420T123116
DTSTART:20260424T091500Z
DTEND:20260424T101500Z
LOCATION:Biblioteka Pedagogiczna im. Heleny Radlińskiej w Siedlcach
SUMMARY:Dbajmy o naszą planetę! – Jak dbać o przyrodę?
DESCRIPTION:
END:VEVENT
END:VCALENDAR
